BEGIN:VCALENDAR
VERSION:2.0
PRODID:-//Cannon County, Tennessee - ECPv6.15.20//NONSGML v1.0//EN
CALSCALE:GREGORIAN
METHOD:PUBLISH
X-ORIGINAL-URL:https://cannoncountytn.gov
X-WR-CALDESC:Events for Cannon County, Tennessee
REFRESH-INTERVAL;VALUE=DURATION:PT1H
X-Robots-Tag:noindex
X-PUBLISHED-TTL:PT1H
BEGIN:VTIMEZONE
TZID:America/Chicago
BEGIN:DAYLIGHT
TZOFFSETFROM:-0600
TZOFFSETTO:-0500
TZNAME:CDT
DTSTART:20250309T080000
END:DAYLIGHT
BEGIN:STANDARD
TZOFFSETFROM:-0500
TZOFFSETTO:-0600
TZNAME:CST
DTSTART:20251102T070000
END:STANDARD
BEGIN:DAYLIGHT
TZOFFSETFROM:-0600
TZOFFSETTO:-0500
TZNAME:CDT
DTSTART:20260308T080000
END:DAYLIGHT
BEGIN:STANDARD
TZOFFSETFROM:-0500
TZOFFSETTO:-0600
TZNAME:CST
DTSTART:20261101T070000
END:STANDARD
BEGIN:DAYLIGHT
TZOFFSETFROM:-0600
TZOFFSETTO:-0500
TZNAME:CDT
DTSTART:20270314T080000
END:DAYLIGHT
BEGIN:STANDARD
TZOFFSETFROM:-0500
TZOFFSETTO:-0600
TZNAME:CST
DTSTART:20271107T070000
END:STANDARD
END:VTIMEZONE
BEGIN:VEVENT
DTSTART;TZID=America/Chicago:20260219T080000
DTEND;TZID=America/Chicago:20260219T120000
DTSTAMP:20260421T050201
CREATED:20251209T205324Z
LAST-MODIFIED:20260121T210250Z
UID:6140-1771488000-1771502400@cannoncountytn.gov
SUMMARY:Last Day to Qualify to Run for Office
DESCRIPTION:Last day to qualify to run for election to local offices\, noon\, CST.
URL:https://cannoncountytn.gov/event/last-day-to-qualify-to-run-for-office/
LOCATION:Cannon County Election Office\, 120 S. Tatum St.\, Woodbury\, TN 37190\, 120 S. Tatum St.\, Woodbury\, TN\, 37190\, United States
END:VEVENT
BEGIN:VEVENT
DTSTART;TZID=America/Chicago:20260219T180000
DTEND;TZID=America/Chicago:20260219T190000
DTSTAMP:20260421T050201
CREATED:20251223T182521Z
LAST-MODIFIED:20260219T185942Z
UID:6188-1771524000-1771527600@cannoncountytn.gov
SUMMARY:GRP Public Hearing
DESCRIPTION:General Regional Plan (GRP) Public Hearing\nThu.\, Feb. 19\, 2026\, 6:00 PM\nAdams Committee Room
URL:https://cannoncountytn.gov/event/grp-public-hearing/
LOCATION:Adams Building Committee Meeting Room\, 110 S. Tatum St.\, Woodbury\, TN\, 37190\, United States
END:VEVENT
BEGIN:VEVENT
DTSTART;TZID=America/Chicago:20260219T180000
DTEND;TZID=America/Chicago:20260219T190000
DTSTAMP:20260421T050201
CREATED:20260216T184411Z
LAST-MODIFIED:20260216T185303Z
UID:6368-1771524000-1771527600@cannoncountytn.gov
SUMMARY:CCBOE Budget Workshop
DESCRIPTION:The Cannon County Board of Education has scheduled its Budget Workshop for Thu.\, Feb. 19\, 2026\, at the County Committee Meeting Room\, Cannon County Adams Office Building\, 2nd Floor\, 110 South Tatum Street\, Woodbury\, TN 37190.
URL:https://cannoncountytn.gov/event/ccboe-budget-workshop/
LOCATION:Adams Building Committee Meeting Room\, 110 S. Tatum St.\, Woodbury\, TN\, 37190\, United States
END:VEVENT
END:VCALENDAR